BEGIN:VCALENDAR
PRODID:-//http://statistik.d-u-v.org//PHP ultracalendar//EN
VERSION:2.0
METHOD:PUBLISH
BEGIN:VEVENT
DTSTAMP:20260419T165013
CREATED:20250131T121136
UID:1776617413.0.77603700-115887@statistik.d-u-v.org
SUMMARY:Speed Goat Ultra 24 Hour Race
DESCRIPTION: Speed Goat Ultra 24 Hour Race\n
  \n
  
DTSTART:20250510T190000
DTEND:00000000T235900
LOCATION:Broadview, MT\, USA
URL:https://ultrasignup.com/register.aspx?did=122759
CATEGORIES:Ultramarathon
CONTACT:
CLASS:PUBLIC
PRIORITY:5
TRANSP:OPAQUE
END:VEVENT
END:VCALENDAR
