BEGIN:VCALENDAR
PRODID:-//http://statistik.d-u-v.org//PHP ultracalendar//EN
VERSION:2.0
METHOD:PUBLISH
BEGIN:VEVENT
DTSTAMP:20260423T020206
CREATED:20250130T202803
UID:1776909726.0.47294600-115803@statistik.d-u-v.org
SUMMARY:Sweat Hot Oklahoma Summer Trials 12h
DESCRIPTION: Sweat Hot Oklahoma Summer Trials 12h\n
  \n
  comana_switch_running[at]outlook.com
DTSTART:20250726T060000
DTEND:00000000T235900
LOCATION:Nowata, OK\, USA
URL:https://ultrasignup.com/register.aspx?did=123572
CATEGORIES:Ultramarathon
CONTACT:
CLASS:PUBLIC
PRIORITY:5
TRANSP:OPAQUE
END:VEVENT
END:VCALENDAR
