BEGIN:VCALENDAR
PRODID:-//http://statistik.d-u-v.org//PHP ultracalendar//EN
VERSION:2.0
METHOD:PUBLISH
BEGIN:VEVENT
DTSTAMP:20260424T200032
CREATED:20250130T202722
UID:1777060832.0.05540100-115797@statistik.d-u-v.org
SUMMARY:Burning River 50 Mile Endurance Run
DESCRIPTION: Burning River 50 Mile Endurance Run\n
  Joe Jurczyk\n
  joe[at]westernreserveracing.com
DTSTART:20250726T053000
DTEND:00000000T235900
LOCATION:Willoughby Hills, OH\, USA
URL:http://www.westernreserveracing.com/
CATEGORIES:Ultramarathon
CONTACT:Joe Jurczyk
CLASS:PUBLIC
PRIORITY:5
TRANSP:OPAQUE
END:VEVENT
END:VCALENDAR
