BEGIN:VCALENDAR
PRODID:-//http://statistik.d-u-v.org//PHP ultracalendar//EN
VERSION:2.0
METHOD:PUBLISH
BEGIN:VEVENT
DTSTAMP:20260419T140118
CREATED:20250219T071901
UID:1776607278.0.26228500-115764@statistik.d-u-v.org
SUMMARY:Arberland Ultra Trail 100k
DESCRIPTION: Arberland Ultra Trail 100k\n
  \n
  info[at]arberlandultratrail.de
DTSTART:20250920T050000
DTEND:00000000T235900
LOCATION:Bayerisch Eisenstein\, GER
URL:http://www.arberlandultratrail.de/
CATEGORIES:Ultramarathon
CONTACT:
CLASS:PUBLIC
PRIORITY:5
TRANSP:OPAQUE
END:VEVENT
END:VCALENDAR
