BEGIN:VCALENDAR
PRODID:-//http://statistik.d-u-v.org//PHP ultracalendar//EN
VERSION:2.0
METHOD:PUBLISH
BEGIN:VEVENT
DTSTAMP:20260420T183531
CREATED:20250130T162132
UID:1776710131.0.73166100-115755@statistik.d-u-v.org
SUMMARY:Cry Me A River 50 Km Trail Run
DESCRIPTION: Cry Me A River 50 Km Trail Run\n
  \n
  crymearivertrailruns[at]yahoo.com
DTSTART:20250712T050000
DTEND:00000000T235900
LOCATION:Chillicothe, IL\, USA
URL:http://www.crymearivertrailruns.com/
CATEGORIES:Ultramarathon
CONTACT:
CLASS:PUBLIC
PRIORITY:5
TRANSP:OPAQUE
END:VEVENT
END:VCALENDAR
