BEGIN:VCALENDAR
PRODID:-//http://statistik.d-u-v.org//PHP ultracalendar//EN
VERSION:2.0
METHOD:PUBLISH
BEGIN:VEVENT
DTSTAMP:20260423T043633
CREATED:20250130T080256
UID:1776918993.0.26371500-115713@statistik.d-u-v.org
SUMMARY:Prairie On Fire Backyard Ultra
DESCRIPTION: Prairie On Fire Backyard Ultra\n
  \n
  tj[at]meshtc.com
DTSTART:20250906T080000
DTEND:20250908T235900
LOCATION:Noblesville, IN\, USA
URL:https://ultrasignup.com/register.aspx?did=123052
CATEGORIES:Ultramarathon
CONTACT:
CLASS:PUBLIC
PRIORITY:5
TRANSP:OPAQUE
END:VEVENT
END:VCALENDAR
