BEGIN:VCALENDAR
PRODID:-//http://statistik.d-u-v.org//PHP ultracalendar//EN
VERSION:2.0
METHOD:PUBLISH
BEGIN:VEVENT
DTSTAMP:20260419T211246
CREATED:20250129T213336
UID:1776633166.0.28334600-115662@statistik.d-u-v.org
SUMMARY:Backyard Ultra Piekiełki
DESCRIPTION: Backyard Ultra Piekiełki\n
  Michał Sitarek\n
  piekielki[at]gmail.com
DTSTART:20250607T080000
DTEND:00000000T235900
LOCATION:Starogard Gdanski\, POL
URL:https://www.facebook.com/share/15rsLiKXFj/
CATEGORIES:Ultramarathon
CONTACT:Michał Sitarek
CLASS:PUBLIC
PRIORITY:5
TRANSP:OPAQUE
END:VEVENT
END:VCALENDAR
