BEGIN:VCALENDAR
PRODID:-//http://statistik.d-u-v.org//PHP ultracalendar//EN
VERSION:2.0
METHOD:PUBLISH
BEGIN:VEVENT
DTSTAMP:20260423T020739
CREATED:20250129T210843
UID:1776910059.0.19702000-115647@statistik.d-u-v.org
SUMMARY:The Dark Side 8 Hour Ultra
DESCRIPTION: The Dark Side 8 Hour Ultra\n
  \n
  
DTSTART:20250301T080000
DTEND:00000000T235900
LOCATION:Clarksburg, MD\, USA
URL:https://ultrasignup.com/register.aspx?did=117523
CATEGORIES:Ultramarathon
CONTACT:
CLASS:PUBLIC
PRIORITY:5
TRANSP:OPAQUE
END:VEVENT
END:VCALENDAR
