BEGIN:VCALENDAR
PRODID:-//http://statistik.d-u-v.org//PHP ultracalendar//EN
VERSION:2.0
METHOD:PUBLISH
BEGIN:VEVENT
DTSTAMP:20260419T140049
CREATED:20250219T121958
UID:1776607249.0.88240700-115638@statistik.d-u-v.org
SUMMARY:Black Forest Trail-Run 55km
DESCRIPTION: Black Forest Trail-Run 55km\n
  Philipp Hässler\n
  info[at]trailrun-masters.de
DTSTART:20251004T080000
DTEND:00000000T235900
LOCATION:Elzach\, GER
URL:https://www.trailrun-masters.de/
CATEGORIES:Ultramarathon
CONTACT:Philipp Hässler
CLASS:PUBLIC
PRIORITY:5
TRANSP:OPAQUE
END:VEVENT
END:VCALENDAR
