BEGIN:VCALENDAR
PRODID:-//http://statistik.d-u-v.org//PHP ultracalendar//EN
VERSION:2.0
METHOD:PUBLISH
BEGIN:VEVENT
DTSTAMP:20260419T233426
CREATED:20250129T184456
UID:1776641666.0.30279300-115629@statistik.d-u-v.org
SUMMARY:BadgerPalooza
DESCRIPTION: BadgerPalooza\n
  \n
  badgerstri[at]gmail.com
DTSTART:20251017T060000
DTEND:20251018T235900
LOCATION:Williamston, NJ\, USA
URL:https://www.badgerstri.com/badgerpalooza/
CATEGORIES:Ultramarathon
CONTACT:
CLASS:PUBLIC
PRIORITY:5
TRANSP:OPAQUE
END:VEVENT
END:VCALENDAR
