BEGIN:VCALENDAR
PRODID:-//http://statistik.d-u-v.org//PHP ultracalendar//EN
VERSION:2.0
METHOD:PUBLISH
BEGIN:VEVENT
DTSTAMP:20260419T195323
CREATED:20250129T020431
UID:1776628403.0.66549100-115598@statistik.d-u-v.org
SUMMARY:The Underground Circus 6h
DESCRIPTION: The Underground Circus 6h\n
  \n
  jamz524.jm[at]gmail.com
DTSTART:20250524T070000
DTEND:00000000T235900
LOCATION:Atlanta, GA\, USA
URL:https://ultrasignup.com/register.aspx?did=119029
CATEGORIES:Ultramarathon
CONTACT:
CLASS:PUBLIC
PRIORITY:5
TRANSP:OPAQUE
END:VEVENT
END:VCALENDAR
