BEGIN:VCALENDAR
PRODID:-//http://statistik.d-u-v.org//PHP ultracalendar//EN
VERSION:2.0
METHOD:PUBLISH
BEGIN:VEVENT
DTSTAMP:20260420T031935
CREATED:20250128T194352
UID:1776655175.0.07454500-115536@statistik.d-u-v.org
SUMMARY:River of No Return Endurance Run 108K
DESCRIPTION: River of No Return Endurance Run 108K\n
  Paul Lind, Race Director\n
  paullind[at]challisrunning.com
DTSTART:20250614T050000
DTEND:20250615T235900
LOCATION:Challis, ID\, USA
URL:https://ultrasignup.com/register.aspx?did=121532
CATEGORIES:Ultramarathon
CONTACT:Paul Lind, Race Director
CLASS:PUBLIC
PRIORITY:5
TRANSP:OPAQUE
END:VEVENT
END:VCALENDAR
