BEGIN:VCALENDAR
PRODID:-//http://statistik.d-u-v.org//PHP ultracalendar//EN
VERSION:2.0
METHOD:PUBLISH
BEGIN:VEVENT
DTSTAMP:20260419T192204
CREATED:20250127T094702
UID:1776626524.0.73926400-115448@statistik.d-u-v.org
SUMMARY:Bashore Bash 12 Hr
DESCRIPTION: Bashore Bash 12 Hr\n
  \n
  
DTSTART:20250607T070000
DTEND:00000000T235900
LOCATION:Jonestown, PA\, USA
URL:https://runsignup.com/Race/PA/Jonestown/BashoreBash6HR12HRUltra2021
CATEGORIES:Ultramarathon
CONTACT:
CLASS:PUBLIC
PRIORITY:5
TRANSP:OPAQUE
END:VEVENT
END:VCALENDAR
