BEGIN:VCALENDAR
PRODID:-//http://statistik.d-u-v.org//PHP ultracalendar//EN
VERSION:2.0
METHOD:PUBLISH
BEGIN:VEVENT
DTSTAMP:20260423T031446
CREATED:20250127T072448
UID:1776914086.0.06482900-115425@statistik.d-u-v.org
SUMMARY:San Lorenzo River Trail Run
DESCRIPTION: San Lorenzo River Trail Run\n
  \n
  
DTSTART:20250712T080000
DTEND:00000000T235900
LOCATION:Santa Cruz, CA\, USA
URL:https://runsignup.com/Race/CA/SantaCruz/SanLorenzoRiverTrailRun
CATEGORIES:Ultramarathon
CONTACT:
CLASS:PUBLIC
PRIORITY:5
TRANSP:OPAQUE
END:VEVENT
END:VCALENDAR
