BEGIN:VCALENDAR
PRODID:-//http://statistik.d-u-v.org//PHP ultracalendar//EN
VERSION:2.0
METHOD:PUBLISH
BEGIN:VEVENT
DTSTAMP:20260424T160646
CREATED:20250127T051402
UID:1777046806.0.99645500-115393@statistik.d-u-v.org
SUMMARY:Tufted Puffin Endurance Run 24h Run
DESCRIPTION: Tufted Puffin Endurance Run 24h Run\n
  \n
  
DTSTART:20250802T080000
DTEND:20250803T080000
LOCATION:Newport, OR\, USA
URL:https://runsignup.com/Race/OR/Newport/TuftedPuffinEnduranceRun
CATEGORIES:Ultramarathon
CONTACT:
CLASS:PUBLIC
PRIORITY:5
TRANSP:OPAQUE
END:VEVENT
END:VCALENDAR
