BEGIN:VCALENDAR
PRODID:-//http://statistik.d-u-v.org//PHP ultracalendar//EN
VERSION:2.0
METHOD:PUBLISH
BEGIN:VEVENT
DTSTAMP:20260423T020600
CREATED:20250127T050629
UID:1776909960.0.63370500-115389@statistik.d-u-v.org
SUMMARY:Firewater 50k Trail Race Sunrise
DESCRIPTION: Firewater 50k Trail Race Sunrise\n
  Race Director Tony Owens\n
  magicnumberevents[at]gmail.com
DTSTART:20251025T083000
DTEND:00000000T235900
LOCATION:Greenback, TN\, USA
URL:https://ultrasignup.com/register.aspx?did=121322
CATEGORIES:Ultramarathon
CONTACT:Race Director Tony Owens
CLASS:PUBLIC
PRIORITY:5
TRANSP:OPAQUE
END:VEVENT
END:VCALENDAR
