BEGIN:VCALENDAR
PRODID:-//http://statistik.d-u-v.org//PHP ultracalendar//EN
VERSION:2.0
METHOD:PUBLISH
BEGIN:VEVENT
DTSTAMP:20260423T035825
CREATED:20250127T045008
UID:1776916705.0.19818900-115381@statistik.d-u-v.org
SUMMARY:Perfect Day 50K
DESCRIPTION: Perfect Day 50K\n
  \n
  events[at]vamomentum.com
DTSTART:20250503T080000
DTEND:00000000T235900
LOCATION:Keezletown, VA\, USA
URL:https://runsignup.com/Race/VA/Keezletown/PerfectDay50K
CATEGORIES:Ultramarathon
CONTACT:
CLASS:PUBLIC
PRIORITY:5
TRANSP:OPAQUE
END:VEVENT
END:VCALENDAR
