BEGIN:VCALENDAR
PRODID:-//http://statistik.d-u-v.org//PHP ultracalendar//EN
VERSION:2.0
METHOD:PUBLISH
BEGIN:VEVENT
DTSTAMP:20260424T175901
CREATED:20250127T043353
UID:1777053541.0.34279600-115372@statistik.d-u-v.org
SUMMARY:Saint Marys Lake Trail Series
DESCRIPTION: Saint Marys Lake Trail Series\n
  \n
  nicholaswirz[at]gmail.com
DTSTART:20250222T080000
DTEND:00000000T235900
LOCATION:Leonardtown, MD\, USA
URL:https://ultrasignup.com/register.aspx?did=119328
CATEGORIES:Ultramarathon
CONTACT:
CLASS:PUBLIC
PRIORITY:5
TRANSP:OPAQUE
END:VEVENT
END:VCALENDAR
