BEGIN:VCALENDAR
PRODID:-//http://statistik.d-u-v.org//PHP ultracalendar//EN
VERSION:2.0
METHOD:PUBLISH
BEGIN:VEVENT
DTSTAMP:20260424T205522
CREATED:20250127T013533
UID:1777064122.0.25513600-115351@statistik.d-u-v.org
SUMMARY:Spartan Trail - Bear Mountain Trail Challenge
DESCRIPTION: Spartan Trail - Bear Mountain Trail Challenge\n
  \n
  trail[at]spartan.com
DTSTART:20250503T070000
DTEND:00000000T235900
LOCATION:Tomkins Cove, NY\, USA
URL:https://www.spartantrail.com/bear-mountain-trail-challenge/
CATEGORIES:Ultramarathon
CONTACT:
CLASS:PUBLIC
PRIORITY:5
TRANSP:OPAQUE
END:VEVENT
END:VCALENDAR
