BEGIN:VCALENDAR
PRODID:-//http://statistik.d-u-v.org//PHP ultracalendar//EN
VERSION:2.0
METHOD:PUBLISH
BEGIN:VEVENT
DTSTAMP:20260420T113914
CREATED:20250127T002123
UID:1776685154.0.66066300-115323@statistik.d-u-v.org
SUMMARY:This ain't yo Momma's 50k
DESCRIPTION: This ain't yo Momma's 50k\n
  \n
  
DTSTART:20250126T071500
DTEND:00000000T235900
LOCATION:Middleburg, FL\, USA
URL:https://ultrasignup.com/register.aspx?did=117720
CATEGORIES:Ultramarathon
CONTACT:
CLASS:PUBLIC
PRIORITY:5
TRANSP:OPAQUE
END:VEVENT
END:VCALENDAR
