BEGIN:VCALENDAR
PRODID:-//http://statistik.d-u-v.org//PHP ultracalendar//EN
VERSION:2.0
METHOD:PUBLISH
BEGIN:VEVENT
DTSTAMP:20260423T020500
CREATED:20250126T231453
UID:1776909900.0.68184600-115297@statistik.d-u-v.org
SUMMARY:Pine Creek Challenge 100 Miles
DESCRIPTION: Pine Creek Challenge 100 Miles\n
  Steve Hanes, Race Director\n
  stevehanes[at]gmail.com
DTSTART:20250906T060000
DTEND:20250907T120000
LOCATION:Wellsboro, PA\, USA
URL:https://sites.google.com/site/pinecreekchallengepa/
CATEGORIES:Ultramarathon
CONTACT:Steve Hanes, Race Director
CLASS:PUBLIC
PRIORITY:5
TRANSP:OPAQUE
END:VEVENT
END:VCALENDAR
