BEGIN:VCALENDAR
PRODID:-//http://statistik.d-u-v.org//PHP ultracalendar//EN
VERSION:2.0
METHOD:PUBLISH
BEGIN:VEVENT
DTSTAMP:20260423T031427
CREATED:20250126T224405
UID:1776914067.0.05283300-115291@statistik.d-u-v.org
SUMMARY:Dark 2 Dawn 6 Hour Trail Run
DESCRIPTION: Dark 2 Dawn 6 Hour Trail Run\n
  \n
  
DTSTART:20250622T000000
DTEND:00000000T235900
LOCATION:Foristell, MO\, USA
URL:https://ultrasignup.com/register.aspx?did=122296
CATEGORIES:Ultramarathon
CONTACT:
CLASS:PUBLIC
PRIORITY:5
TRANSP:OPAQUE
END:VEVENT
END:VCALENDAR
