BEGIN:VCALENDAR
PRODID:-//http://statistik.d-u-v.org//PHP ultracalendar//EN
VERSION:2.0
METHOD:PUBLISH
BEGIN:VEVENT
DTSTAMP:20260420T081524
CREATED:20250126T185739
UID:1776672924.0.58348200-115273@statistik.d-u-v.org
SUMMARY:Huron 50
DESCRIPTION: Huron 50\n
  \n
  thehuron100[at]gmail.com
DTSTART:20250607T070000
DTEND:00000000T235900
LOCATION:Grass Lake, MI\, USA
URL:https://www.thehuron100.com/
CATEGORIES:Ultramarathon
CONTACT:
CLASS:PUBLIC
PRIORITY:5
TRANSP:OPAQUE
END:VEVENT
END:VCALENDAR
