BEGIN:VCALENDAR
PRODID:-//http://statistik.d-u-v.org//PHP ultracalendar//EN
VERSION:2.0
METHOD:PUBLISH
BEGIN:VEVENT
DTSTAMP:20260423T041050
CREATED:20250126T071756
UID:1776917450.0.24040000-115242@statistik.d-u-v.org
SUMMARY:Kaniksu Trail Runs - 100 Km
DESCRIPTION: Kaniksu Trail Runs - 100 Km\n
  Austin Reed\n
  kaniksuultra[at]gmail.com
DTSTART:20250614T061200
DTEND:20250615T061200
LOCATION:Frater Lake, WA\, USA
URL:https://www.kaniksuultras.com/kaniksu-50-events-page
CATEGORIES:Ultramarathon
CONTACT:Austin Reed
CLASS:PUBLIC
PRIORITY:5
TRANSP:OPAQUE
END:VEVENT
END:VCALENDAR
