BEGIN:VCALENDAR
PRODID:-//http://statistik.d-u-v.org//PHP ultracalendar//EN
VERSION:2.0
METHOD:PUBLISH
BEGIN:VEVENT
DTSTAMP:20260423T020359
CREATED:20250126T020759
UID:1776909839.0.90872600-115193@statistik.d-u-v.org
SUMMARY:Death by 5k Albuquerque
DESCRIPTION: Death by 5k Albuquerque\n
  \n
  
DTSTART:20250614T053000
DTEND:00000000T235900
LOCATION:Albuquerque, NM\, USA
URL:https://ultrasignup.com/register.aspx?did=119527
CATEGORIES:Ultramarathon
CONTACT:
CLASS:PUBLIC
PRIORITY:5
TRANSP:OPAQUE
END:VEVENT
END:VCALENDAR
