BEGIN:VCALENDAR
PRODID:-//http://statistik.d-u-v.org//PHP ultracalendar//EN
VERSION:2.0
METHOD:PUBLISH
BEGIN:VEVENT
DTSTAMP:20260420T005800
CREATED:20250124T163353
UID:1776646680.0.92004000-115078@statistik.d-u-v.org
SUMMARY:C&O Canal 100 Mile
DESCRIPTION: C&O Canal 100 Mile\n
  Lance Dockery, Race Director\n
  cocanal100[at]gmail.com
DTSTART:20250426T070000
DTEND:20250427T130000
LOCATION:Knoxville, MD\, USA
URL:http://cocanal100.yolasite.com/
CATEGORIES:Ultramarathon
CONTACT:Lance Dockery, Race Director
CLASS:PUBLIC
PRIORITY:5
TRANSP:OPAQUE
END:VEVENT
END:VCALENDAR
