BEGIN:VCALENDAR
PRODID:-//http://statistik.d-u-v.org//PHP ultracalendar//EN
VERSION:2.0
METHOD:PUBLISH
BEGIN:VEVENT
DTSTAMP:20260423T024905
CREATED:20250124T142412
UID:1776912545.0.05998600-115013@statistik.d-u-v.org
SUMMARY:Ozarks Foothills 100 Km Race
DESCRIPTION: Ozarks Foothills 100 Km Race\n
  \n
  terraintrailrunners[at]gmail.com
DTSTART:20250405T060000
DTEND:20250406T140000
LOCATION:Wildwood, MO\, USA
URL:https://www.terraintrailrunners.com/ozark-foothills.html
CATEGORIES:Ultramarathon
CONTACT:
CLASS:PUBLIC
PRIORITY:5
TRANSP:OPAQUE
END:VEVENT
END:VCALENDAR
