BEGIN:VCALENDAR
PRODID:-//http://statistik.d-u-v.org//PHP ultracalendar//EN
VERSION:2.0
METHOD:PUBLISH
BEGIN:VEVENT
DTSTAMP:20260423T043507
CREATED:20250124T142410
UID:1776918907.0.91608100-115012@statistik.d-u-v.org
SUMMARY:Ozarks Foothills 100 Mile Race
DESCRIPTION: Ozarks Foothills 100 Mile Race\n
  Race Director Shalini Kovach\n
  terraintrailrunners[at]gmail.com
DTSTART:20250405T060000
DTEND:20250406T140000
LOCATION:Wildwood, MO\, USA
URL:https://www.terraintrailrunners.com/ozark-foothills.html
CATEGORIES:Ultramarathon
CONTACT:Race Director Shalini Kovach
CLASS:PUBLIC
PRIORITY:5
TRANSP:OPAQUE
END:VEVENT
END:VCALENDAR
