BEGIN:VCALENDAR
PRODID:-//http://statistik.d-u-v.org//PHP ultracalendar//EN
VERSION:2.0
METHOD:PUBLISH
BEGIN:VEVENT
DTSTAMP:20260420T052242
CREATED:20250122T101716
UID:1776662562.0.34360900-114905@statistik.d-u-v.org
SUMMARY:Sandsjöbacka Trail 90
DESCRIPTION: Sandsjöbacka Trail 90\n
  Tomas Amneskog\n
  info[at]sandsjobackatrail.se
DTSTART:20260117T060000
DTEND:20260117T230000
LOCATION:Hisings Kärra\, SWE
URL:http://sandsjobackatrail.se/
CATEGORIES:Ultramarathon
CONTACT:Tomas Amneskog
CLASS:PUBLIC
PRIORITY:5
TRANSP:OPAQUE
END:VEVENT
END:VCALENDAR
