BEGIN:VCALENDAR
PRODID:-//http://statistik.d-u-v.org//PHP ultracalendar//EN
VERSION:2.0
METHOD:PUBLISH
BEGIN:VEVENT
DTSTAMP:20260423T022829
CREATED:20250122T064800
UID:1776911309.0.86551700-114827@statistik.d-u-v.org
SUMMARY:Montara Mountain 50 km Trail Run
DESCRIPTION: Montara Mountain 50 km Trail Run\n
  \n
  
DTSTART:20250222T080000
DTEND:00000000T235900
LOCATION:Pacifica, CA\, USA
URL:https://runsignup.com/Race/CA/Pacifica/MontaraMounainTrailRun
CATEGORIES:Ultramarathon
CONTACT:
CLASS:PUBLIC
PRIORITY:5
TRANSP:OPAQUE
END:VEVENT
END:VCALENDAR
