BEGIN:VCALENDAR
PRODID:-//http://statistik.d-u-v.org//PHP ultracalendar//EN
VERSION:2.0
METHOD:PUBLISH
BEGIN:VEVENT
DTSTAMP:20260419T192610
CREATED:20250121T191429
UID:1776626770.0.30462600-114785@statistik.d-u-v.org
SUMMARY:Donna 110 Ultra Marathon
DESCRIPTION: Donna 110 Ultra Marathon\n
  The Donna Foundation,  11762 Marco Beach Drive, Suite 6,  Jacksonville, FL 32224\n
  
DTSTART:20250201T073000
DTEND:20250202T143000
LOCATION:Jacksonville, FL\, USA
URL:https://ultrarunning.com/calendar/event/donna-110-ultra-marathon
CATEGORIES:Ultramarathon
CONTACT:The Donna Foundation,  11762 Marco Beach Drive, Suite 6,  Jacksonville, FL 32224
CLASS:PUBLIC
PRIORITY:5
TRANSP:OPAQUE
END:VEVENT
END:VCALENDAR
