BEGIN:VCALENDAR
PRODID:-//http://statistik.d-u-v.org//PHP ultracalendar//EN
VERSION:2.0
METHOD:PUBLISH
BEGIN:VEVENT
DTSTAMP:20260421T040117
CREATED:20250218T072952
UID:1776744077.0.50219300-114747@statistik.d-u-v.org
SUMMARY:24-Stunden-Solidaritätslauf
DESCRIPTION: 24-Stunden-Solidaritätslauf\n
  Gabi Strobel\n
  info[at]solilauf.org
DTSTART:20250906T150000
DTEND:20250907T150000
LOCATION:St. Ingbert\, GER
URL:http://www.solilauf.org
CATEGORIES:Ultramarathon
CONTACT:Gabi Strobel
CLASS:PUBLIC
PRIORITY:5
TRANSP:OPAQUE
END:VEVENT
END:VCALENDAR
