BEGIN:VCALENDAR
PRODID:-//http://statistik.d-u-v.org//PHP ultracalendar//EN
VERSION:2.0
METHOD:PUBLISH
BEGIN:VEVENT
DTSTAMP:20260420T044139
CREATED:20250116T152629
UID:1776660099.0.27451700-114624@statistik.d-u-v.org
SUMMARY:The Tennessee Mile 8 Hour Run
DESCRIPTION: The Tennessee Mile 8 Hour Run\n
  \n
  bmfjevents[at]gmail.com
DTSTART:20251206T220000
DTEND:20251207T060000
LOCATION:Franklin, TN\, USA
URL:https://ultrasignup.com/register.aspx?did=123135
CATEGORIES:Ultramarathon
CONTACT:
CLASS:PUBLIC
PRIORITY:5
TRANSP:OPAQUE
END:VEVENT
END:VCALENDAR
