BEGIN:VCALENDAR
PRODID:-//http://statistik.d-u-v.org//PHP ultracalendar//EN
VERSION:2.0
METHOD:PUBLISH
BEGIN:VEVENT
DTSTAMP:20260420T044130
CREATED:20250116T152451
UID:1776660090.0.05222400-114619@statistik.d-u-v.org
SUMMARY:The Tennessee Mile 8 Hour Run
DESCRIPTION: The Tennessee Mile 8 Hour Run\n
  bmfjevents@gmail.com\n
  bmfjevents[at]gmail.com
DTSTART:20241207T220000
DTEND:20241208T060000
LOCATION:Franklin, TN\, USA
URL:http://bmfjevents.com/
CATEGORIES:Ultramarathon
CONTACT:bmfjevents@gmail.com
CLASS:PUBLIC
PRIORITY:5
TRANSP:OPAQUE
END:VEVENT
END:VCALENDAR
