BEGIN:VCALENDAR
PRODID:-//http://statistik.d-u-v.org//PHP ultracalendar//EN
VERSION:2.0
METHOD:PUBLISH
BEGIN:VEVENT
DTSTAMP:20260419T204154
CREATED:20250115T133358
UID:1776631314.0.34206100-114591@statistik.d-u-v.org
SUMMARY:God’s Own Backyard Ultra
DESCRIPTION: God’s Own Backyard Ultra\n
  Gavin Birkett\n
  gavinbirkett[at]msn.com
DTSTART:20251115T080000
DTEND:20251116T235900
LOCATION:Hawksworth, Leeds\, GBR
URL:https://backyardultra.com/races?s=Own+Backyard+Ultra-Fall&post_type=race&month=&country=&orderby=&order=ASC&post_type=race
CATEGORIES:Ultramarathon
CONTACT:Gavin Birkett
CLASS:PUBLIC
PRIORITY:5
TRANSP:OPAQUE
END:VEVENT
END:VCALENDAR
