BEGIN:VCALENDAR
PRODID:-//http://statistik.d-u-v.org//PHP ultracalendar//EN
VERSION:2.0
METHOD:PUBLISH
BEGIN:VEVENT
DTSTAMP:20260426T004826
CREATED:20250115T092804
UID:1777164506.0.93190700-114588@statistik.d-u-v.org
SUMMARY:4TUL 100km Warrior - 45km
DESCRIPTION: 4TUL 100km Warrior - 45km\n
  \n
  info4tulr189[at]gmail.com
DTSTART:20250302T070000
DTEND:00000000T235900
LOCATION:Hong Kong\, HKG
URL:https://www.noracenogoal.com/4tul-2025?fbclid=IwY2xjawJ5ntBleHRuA2FlbQIxMABicmlkETExVTdyb2lTNkZCaVNjSk16AR6Fj0xaBhdMTLpm6HcOjYHE033ZwBzs3meB9_wFJhHHoiuI9KL2sQy5Al9tIg_aem_LlF4meu3AsNUiC__4Ps_rA
CATEGORIES:Ultramarathon
CONTACT:
CLASS:PUBLIC
PRIORITY:5
TRANSP:OPAQUE
END:VEVENT
END:VCALENDAR
