BEGIN:VCALENDAR
PRODID:-//http://statistik.d-u-v.org//PHP ultracalendar//EN
VERSION:2.0
METHOD:PUBLISH
BEGIN:VEVENT
DTSTAMP:20260419T164828
CREATED:20250111T224406
UID:1776617308.0.41133300-114534@statistik.d-u-v.org
SUMMARY:Uetliberg Everesting 4424 Basecamp
DESCRIPTION: Uetliberg Everesting 4424 Basecamp\n
  Christian Marti\n
  christian.marti[at]100marathonclub.ch
DTSTART:20250517T080000
DTEND:20250518T200000
LOCATION:Zürich\, SUI
URL:https://www.100marathonclub.ch/ausschreibungs-und-anmeldeportal
CATEGORIES:Ultramarathon
CONTACT:Christian Marti
CLASS:PUBLIC
PRIORITY:5
TRANSP:OPAQUE
END:VEVENT
END:VCALENDAR
