BEGIN:VCALENDAR
PRODID:-//http://statistik.d-u-v.org//PHP ultracalendar//EN
VERSION:2.0
METHOD:PUBLISH
BEGIN:VEVENT
DTSTAMP:20260420T005856
CREATED:20250109T143054
UID:1776646736.0.23039300-114476@statistik.d-u-v.org
SUMMARY:CM6 Run - CM6 135 Km
DESCRIPTION: CM6 Run - CM6 135 Km\n
  \n
  info[at]cm6.run
DTSTART:20240803T030000
DTEND:20240805T170000
LOCATION:Chiang Mai\, THA
URL:https://cm6.run/divi/?fbclid=IwZXh0bgNhZW0CMTAAAR2UVJD2WW8Dwg3DlX_-qhqXtDb_wYDb9C9FSL6DOH5ORk7kzcNiwX5ZIeg_aem_bw3Lib6kqqTCuvuHVeX61g
CATEGORIES:Ultramarathon
CONTACT:
CLASS:PUBLIC
PRIORITY:5
TRANSP:OPAQUE
END:VEVENT
END:VCALENDAR
