BEGIN:VCALENDAR
PRODID:-//http://statistik.d-u-v.org//PHP ultracalendar//EN
VERSION:2.0
METHOD:PUBLISH
BEGIN:VEVENT
DTSTAMP:20260420T070838
CREATED:20250108T175856
UID:1776668918.0.30076200-114433@statistik.d-u-v.org
SUMMARY:The Westwind Trail - The Novice Combo stage 1 83K
DESCRIPTION: The Westwind Trail - The Novice Combo stage 1 83K\n
  \n
  info[at]thewestwindtrail.run
DTSTART:20241109T060000
DTEND:20241110T050000
LOCATION:Mae Hong Son\, THA
URL:https://thewestwindtrail.run/
CATEGORIES:Ultramarathon
CONTACT:
CLASS:PUBLIC
PRIORITY:5
TRANSP:OPAQUE
END:VEVENT
END:VCALENDAR
