BEGIN:VCALENDAR
PRODID:-//http://statistik.d-u-v.org//PHP ultracalendar//EN
VERSION:2.0
METHOD:PUBLISH
BEGIN:VEVENT
DTSTAMP:20260423T052605
CREATED:20250108T175209
UID:1776921965.0.21252100-114430@statistik.d-u-v.org
SUMMARY:The Westwind Trail - The Master Combo 95K
DESCRIPTION: The Westwind Trail - The Master Combo 95K\n
  \n
  info[at]thewestwindtrail.run
DTSTART:20241109T060000
DTEND:20241110T090000
LOCATION:Mae Hong Son\, THA
URL:https://thewestwindtrail.run/
CATEGORIES:Ultramarathon
CONTACT:
CLASS:PUBLIC
PRIORITY:5
TRANSP:OPAQUE
END:VEVENT
END:VCALENDAR
