BEGIN:VCALENDAR
PRODID:-//http://statistik.d-u-v.org//PHP ultracalendar//EN
VERSION:2.0
METHOD:PUBLISH
BEGIN:VEVENT
DTSTAMP:20260420T044148
CREATED:20250106T160215
UID:1776660108.0.12868800-114379@statistik.d-u-v.org
SUMMARY:The Great Mawla Ghaati Ultra
DESCRIPTION: The Great Mawla Ghaati Ultra\n
  \n
  runwithitro[at]gmail.com
DTSTART:20240614T113000
DTEND:20240616T093000
LOCATION:Pune\, IND
URL:https://www.facebook.com/jumpinggorillatrailrun
CATEGORIES:Ultramarathon
CONTACT:
CLASS:PUBLIC
PRIORITY:5
TRANSP:OPAQUE
END:VEVENT
END:VCALENDAR
