BEGIN:VCALENDAR
PRODID:-//http://statistik.d-u-v.org//PHP ultracalendar//EN
VERSION:2.0
METHOD:PUBLISH
BEGIN:VEVENT
DTSTAMP:20260423T031409
CREATED:20250103T115836
UID:1776914049.0.26468100-114282@statistik.d-u-v.org
SUMMARY:Ultra X 60 Finland
DESCRIPTION: Ultra X 60 Finland\n
  \n
  contact[at]ultra-x.co 
DTSTART:20250524T073000
DTEND:00000000T235900
LOCATION:Lahti\, FIN
URL:https://ultra-x.co/finland/
CATEGORIES:Ultramarathon
CONTACT:
CLASS:PUBLIC
PRIORITY:5
TRANSP:OPAQUE
END:VEVENT
END:VCALENDAR
