BEGIN:VCALENDAR
PRODID:-//http://statistik.d-u-v.org//PHP ultracalendar//EN
VERSION:2.0
METHOD:PUBLISH
BEGIN:VEVENT
DTSTAMP:20260422T175645
CREATED:20250101T102643
UID:1776880605.0.91504500-114254@statistik.d-u-v.org
SUMMARY:Backyard Ultra Polska - winter edition
DESCRIPTION: Backyard Ultra Polska - winter edition\n
  Paweł Żuk\n
  pawel.zuk1[at]op.pl;polskieultra[at]op.pl
DTSTART:20250125T090000
DTEND:00000000T235900
LOCATION:Jablonna\, POL
URL:https://www.facebook.com/BackyardUltraPolska/
CATEGORIES:Ultramarathon
CONTACT:Paweł Żuk
CLASS:PUBLIC
PRIORITY:5
TRANSP:OPAQUE
END:VEVENT
END:VCALENDAR
