BEGIN:VCALENDAR
PRODID:-//http://statistik.d-u-v.org//PHP ultracalendar//EN
VERSION:2.0
METHOD:PUBLISH
BEGIN:VEVENT
DTSTAMP:20260423T020636
CREATED:20250101T153234
UID:1776909996.0.00859300-114225@statistik.d-u-v.org
SUMMARY:Colt 45 Mile Trail Run
DESCRIPTION: Colt 45 Mile Trail Run\n
  \n
  
DTSTART:20241123T000000
DTEND:00000000T235900
LOCATION:Lakeland, FL\, USA
URL:https://www.facebook.com/events/831098934429884
CATEGORIES:Ultramarathon
CONTACT:
CLASS:PUBLIC
PRIORITY:5
TRANSP:OPAQUE
END:VEVENT
END:VCALENDAR
