BEGIN:VCALENDAR
PRODID:-//http://statistik.d-u-v.org//PHP ultracalendar//EN
VERSION:2.0
METHOD:PUBLISH
BEGIN:VEVENT
DTSTAMP:20260424T141837
CREATED:20250101T130307
UID:1777040317.0.98817100-114219@statistik.d-u-v.org
SUMMARY:The Stuffed Turkey 30 Mile Endurance Race
DESCRIPTION: The Stuffed Turkey 30 Mile Endurance Race\n
  \n
  babycakesrunningco[at]gmail.com
DTSTART:20251122T000000
DTEND:20251123T235900
LOCATION:Granger, IA\, USA
URL:https://stuffedturkeyendurance.weebly.com/
CATEGORIES:Ultramarathon
CONTACT:
CLASS:PUBLIC
PRIORITY:5
TRANSP:OPAQUE
END:VEVENT
END:VCALENDAR
