BEGIN:VCALENDAR
PRODID:-//http://statistik.d-u-v.org//PHP ultracalendar//EN
VERSION:2.0
METHOD:PUBLISH
BEGIN:VEVENT
DTSTAMP:20260420T044145
CREATED:20241231T182305
UID:1776660105.0.67273000-114143@statistik.d-u-v.org
SUMMARY:Miola Madness - Fall Edition - 6h
DESCRIPTION: Miola Madness - Fall Edition - 6h\n
  \n
  
DTSTART:20251108T210000
DTEND:20251109T030000
LOCATION:Paola, KS\, USA
URL:https://www.facebook.com/events/457302636328999
CATEGORIES:Ultramarathon
CONTACT:
CLASS:PUBLIC
PRIORITY:5
TRANSP:OPAQUE
END:VEVENT
END:VCALENDAR
