BEGIN:VCALENDAR
PRODID:-//http://statistik.d-u-v.org//PHP ultracalendar//EN
VERSION:2.0
METHOD:PUBLISH
BEGIN:VEVENT
DTSTAMP:20260419T220815
CREATED:20241231T182204
UID:1776636495.0.34876700-114141@statistik.d-u-v.org
SUMMARY:Miola Madness Fall Edition - 12h
DESCRIPTION: Miola Madness Fall Edition - 12h\n
  \n
  
DTSTART:20251108T210000
DTEND:20251109T090000
LOCATION:Paola, KS\, USA
URL:https://www.facebook.com/events/457302636328999
CATEGORIES:Ultramarathon
CONTACT:
CLASS:PUBLIC
PRIORITY:5
TRANSP:OPAQUE
END:VEVENT
END:VCALENDAR
