BEGIN:VCALENDAR
PRODID:-//http://statistik.d-u-v.org//PHP ultracalendar//EN
VERSION:2.0
METHOD:PUBLISH
BEGIN:VEVENT
DTSTAMP:20260423T015036
CREATED:20241231T132025
UID:1776909036.0.94728600-114095@statistik.d-u-v.org
SUMMARY:The Hamsterwheel 30 Hour Run
DESCRIPTION: The Hamsterwheel 30 Hour Run\n
  Race Director Bill Conley\n
  runcrazyfar[at]yahoo.com
DTSTART:20251101T090000
DTEND:20251102T235900
LOCATION:New Boston, NH\, USA
URL:https://www.facebook.com/hmstrwheel/
CATEGORIES:Ultramarathon
CONTACT:Race Director Bill Conley
CLASS:PUBLIC
PRIORITY:5
TRANSP:OPAQUE
END:VEVENT
END:VCALENDAR
