BEGIN:VCALENDAR
PRODID:-//http://statistik.d-u-v.org//PHP ultracalendar//EN
VERSION:2.0
METHOD:PUBLISH
BEGIN:VEVENT
DTSTAMP:20260423T031508
CREATED:20241231T125044
UID:1776914108.0.54163100-114093@statistik.d-u-v.org
SUMMARY:Colorado 12 Hour Run
DESCRIPTION: Colorado 12 Hour Run\n
  \n
  racedirector[at]gnarrunners.com
DTSTART:20251101T080000
DTEND:00000000T235900
LOCATION:Fort Collins, CO\, USA
URL:https://gnarrunners.com/colorado-24-hour-run/
CATEGORIES:Ultramarathon
CONTACT:
CLASS:PUBLIC
PRIORITY:5
TRANSP:OPAQUE
END:VEVENT
END:VCALENDAR
