BEGIN:VCALENDAR
PRODID:-//http://statistik.d-u-v.org//PHP ultracalendar//EN
VERSION:2.0
METHOD:PUBLISH
BEGIN:VEVENT
DTSTAMP:20260423T012415
CREATED:20241231T125052
UID:1776907455.0.07251200-114091@statistik.d-u-v.org
SUMMARY:Colorado 6 Hour Run
DESCRIPTION: Colorado 6 Hour Run\n
  Brad Bishop\n
  racedirector[at]gnarrunners.com; brad[at]gnarrunners.com
DTSTART:20241102T000000
DTEND:00000000T235900
LOCATION:Fort Collins, CO\, USA
URL:https://gnarrunners.com/colorado-24-hour-run/
CATEGORIES:Ultramarathon
CONTACT:Brad Bishop
CLASS:PUBLIC
PRIORITY:5
TRANSP:OPAQUE
END:VEVENT
END:VCALENDAR
